BEGIN:VCALENDAR
VERSION:2.0
PRODID:-//eventon.com NONSGML v1.0//EN
BEGIN:VEVENT
UID:69e9f043d97fa
DTSTAMP:20260423T121115
DTSTART:20230419T073000Z
DTEND:20230419T091500Z
TZID:Europe/Berlin
LOCATION:
SUMMARY:Englisch B1 (TK-4134-F)
DESCRIPTION: Conversation for the Generation 55+ VHS-Kurs TK-4134-F Robert Clift Anmeldung nur über die VHS Treptow-Köpenick (siehe Learn more)\nhttps://buergerhaus-gruenau.de/events/englisch-b1-tk-4134-f/
URL:https://buergerhaus-gruenau.de/events/englisch-b1-tk-4134-f/
END:VEVENT
END:VCALENDAR