BEGIN:VCALENDAR
VERSION:2.0
PRODID:-//eventon.com NONSGML v1.0//EN
BEGIN:VEVENT
UID:69e9dd1aa4bea
DTSTAMP:20260423T104930
DTSTART:20230110T101500Z
DTEND:20230110T110000Z
TZID:Europe/Berlin
LOCATION:
SUMMARY:Französisch VHS
DESCRIPTION: VHS-Kurs TK-4206-F\,  A1.2\,  Ohne Vorkenntnisse Florian Bayle\nhttps://buergerhaus-gruenau.de/events/franzoesisch-vhs-2/
URL:https://buergerhaus-gruenau.de/events/franzoesisch-vhs-2/
END:VEVENT
END:VCALENDAR