BEGIN:VCALENDAR
VERSION:2.0
PRODID:-//eventon.com NONSGML v1.0//EN
BEGIN:VEVENT
UID:69e9f044d99d7
DTSTAMP:20260423T121116
DTSTART:20230530T080000Z
DTEND:20230530T110000Z
TZID:Europe/Berlin
LOCATION:
SUMMARY:Krabbelgruppe
DESCRIPTION: Hier können auch die Kleinsten neue Freunde*innen finden\,  und die Eltern sich austauschen.\nhttps://buergerhaus-gruenau.de/events/krabbelgruppe/var/ri-16.l-L1
URL:https://buergerhaus-gruenau.de/events/krabbelgruppe/var/ri-16.l-L1
END:VEVENT
END:VCALENDAR