BEGIN:VCALENDAR
VERSION:2.0
PRODID:-//eventon.com NONSGML v1.0//EN
BEGIN:VEVENT
UID:69eb2ce6641aa
DTSTAMP:20260424T104214
DTSTART:20230215T180000Z
DTEND:20230215T225000Z
TZID:Europe/Berlin
LOCATION:
SUMMARY:Stricken bis die Nadel glüht
DESCRIPTION: Stricken & Plaudern im BürgerZentrum Grünau. Anfänger und Strickversierte sind herzlich willkommen\nhttps://buergerhaus-gruenau.de/events/stricken-bis-die-nadel-glueht/
URL:https://buergerhaus-gruenau.de/events/stricken-bis-die-nadel-glueht/
END:VEVENT
END:VCALENDAR