BEGIN:VCALENDAR
VERSION:2.0
PRODID:-//eventon.com NONSGML v1.0//EN
BEGIN:VEVENT
UID:69e9bae2d5a82
DTSTAMP:20260423T082330
DTSTART:20230203T180000Z
DTEND:20230203T225000Z
TZID:Europe/Berlin
LOCATION:
SUMMARY:Klimakrise und jetzt?
DESCRIPTION: Energiewende selber machen Geld sparen bei Strom und Heizung Erfahrungsberichte aus Theorie und Praxis Die Köpenicker Denise Ney und Timo Kabsch zeigen\,  warum eine Solaranlage auf dem eigenen Balkon eine gute Idee ist. Im Ortsverein Grünau hat sich im Jahr 2022 eine neue Gruppe gegründet: die Klima-Initiative Grünau. Mit dem[..]\nhttps://buergerhaus-gruenau.de/events/klimakrise-und-jetzt/
URL:https://buergerhaus-gruenau.de/events/klimakrise-und-jetzt/
END:VEVENT
END:VCALENDAR