BEGIN:VCALENDAR
VERSION:2.0
PRODID:-//eventon.com NONSGML v1.0//EN
BEGIN:VEVENT
UID:69e9cf6a34676
DTSTAMP:20260423T095106
DTSTART:20230115T140000Z
DTEND:20230115T225000Z
TZID:Europe/Berlin
LOCATION:
SUMMARY:Aquarelle Ullrich Weigert
DESCRIPTION: SONNTAG\,  15. Januar 2023\,  17:00 UHR: VERNISSAGE Musik: Johannes Siedel (Posaune und Gesang)\,  Torsten Puls (Gitarre) Berufsausbildung mit Abitur zum Baufacharbeiter. Studium in Cottbus zum Dipl. Bauingenieur. Arbeit in Planungsbüros und als Bauleiter\,  zuletzt 20 Jahre freischaffend mit Partner in einem kleinen Architekturbüro. Seit vielen Jahren ist auf Reisen und unterwegs mein Skizzenblock dabei. Aus[..]\nhttps://buergerhaus-gruenau.de/events/aquarelle-ullrich-weigert/
URL:https://buergerhaus-gruenau.de/events/aquarelle-ullrich-weigert/
END:VEVENT
END:VCALENDAR