BEGIN:VCALENDAR
VERSION:2.0
PRODID:-//eventon.com NONSGML v1.0//EN
BEGIN:VEVENT
UID:69e627395b3a6
DTSTAMP:20260420T151641
DTSTART:20261209T180000Z
DTEND:20261209T225000Z
TZID:Europe/Berlin
LOCATION:Café in der KulturTribüne Regattastraße 191
SUMMARY:Klimainitiative Grünau
DESCRIPTION: Im Ortsverein Grünau hat sich im Jahr 2022 eine neue Gruppe gegründet: Die Klimainitiative Grünau Die Klimainitiative Grünau des Ortsvereins Grünau e.V. ist ein Zusammenschluss von engagierten Personen aus Berlin-Grünau\,  die sich aktiv für die Gestaltung einer nachhaltigeren Zukunft\,  die sowohl ökologisch als auch sozial gerecht ist\,  in diesem Köpenicker[..]\nhttps://buergerhaus-gruenau.de/events/klimainitiative-gruenau-apr26/var/ri-8.l-L1
URL:https://buergerhaus-gruenau.de/events/klimainitiative-gruenau-apr26/var/ri-8.l-L1
END:VEVENT
END:VCALENDAR