BEGIN:VCALENDAR
VERSION:2.0
PRODID:-//eventon.com NONSGML v1.0//EN
BEGIN:VEVENT
UID:69eb2cef1aca3
DTSTAMP:20260424T104223
DTSTART:20260123
DTEND:20260123
TZID:Europe/Berlin
LOCATION:KulturTribüne Regattastraße 191
SUMMARY:Café heute geschlossen
DESCRIPTION: Café heute geschlossen\nhttps://buergerhaus-gruenau.de/events/cafe-heute-geschlossen-4/
URL:https://buergerhaus-gruenau.de/events/cafe-heute-geschlossen-4/
END:VEVENT
END:VCALENDAR