BEGIN:VCALENDAR
VERSION:2.0
PRODID:-//eventon.com NONSGML v1.0//EN
BEGIN:VEVENT
UID:69ed1227d9197
DTSTAMP:20260425T211239
DTSTART:20221218T125000Z
DTEND:20221218T125000Z
TZID:Europe/Berlin
LOCATION:
SUMMARY:Spiele-Nachmittag
DESCRIPTION: Brett-\,  Karten- und Gesellschaftsspiele Spielbegeisterte Erwachsene sind herzlich eingeladen\,  Spiele sind vorhanden. Teilnahme: 1\, - €\nhttps://buergerhaus-gruenau.de/events/spiele-nachmittag/var/ri-22.l-L1
URL:https://buergerhaus-gruenau.de/events/spiele-nachmittag/var/ri-22.l-L1
END:VEVENT
END:VCALENDAR