BEGIN:VCALENDAR
VERSION:2.0
PRODID:-//eventon.com NONSGML v1.0//EN
BEGIN:VEVENT
UID:69eca686b76ce
DTSTAMP:20260425T133326
DTSTART:20231128T110000Z
DTEND:20231128T130000Z
TZID:Europe/Berlin
LOCATION:Sport: Ort erfragen 
SUMMARY:Yoga
DESCRIPTION: Seit November 1990\,  also seit der Gründung des Bürgerhauses\,  existierten hier die Yoga-Kurse unter der kompetenten Leitung von Annemarie Menge. Bewundernswert\,  dass sie neben Angeboten in Altglienicke auch im Bürgerhaus Grünau jeden Montag drei Kurse absolvierte. Es gibt eine Warteliste\,  aber es wird auch ab und zu ein Platz zum Nachrücken frei. Einige begleiteten den[..]\nhttps://buergerhaus-gruenau.de/events/yoga/var/ri-49.l-L1
URL:https://buergerhaus-gruenau.de/events/yoga/var/ri-49.l-L1
END:VEVENT
END:VCALENDAR