BEGIN:VCALENDAR
VERSION:2.0
PRODID:-//eventon.com NONSGML v1.0//EN
BEGIN:VEVENT
UID:69e4de24250c5
DTSTAMP:20260419T155236
DTSTART:20250824T090000Z
DTEND:20250824T160000Z
TZID:Europe/Berlin
LOCATION:KulturTribüne Regattastraße 191
SUMMARY:Sommerfest Regattatribüne
DESCRIPTION: Sommerfest Regattatribüne des Ortsverein Grünau e.V. Sommerfest-Programm 11 bis 18:00 Uhr Trödelmarkt Ab 12:00 Uhr Leckeres vom Grill 🕒 12:00 Uhr & 14:00 Uhr (~45 min.) Überblicksführung „WASSER SPORT GRÜNAU – Die Ausstellung im Überblick“ Ein dialogischer Rundgang durch unsere Ausstellung\,  der die Geschichte und Bedeutung des Wassersports in Grünau[..]\nhttps://buergerhaus-gruenau.de/events/sommerfest-regattatribuene/
URL:https://buergerhaus-gruenau.de/events/sommerfest-regattatribuene/
END:VEVENT
END:VCALENDAR