BEGIN:VCALENDAR
VERSION:2.0
PRODID:-//eventon.com NONSGML v1.0//EN
BEGIN:VEVENT
UID:69e9ef70b45d9
DTSTAMP:20260423T120744
DTSTART:20250524T170000Z
DTEND:20250524T215000Z
TZID:Europe/Berlin
LOCATION:KulturTribüne Regattastraße 191
SUMMARY:Grünauer Jazz Bühne # 22 - MARIA BAPTIST - The Quartet Works
DESCRIPTION: Eintritt: 15 € Karten nur an der Abendkasse &nbsp; MARIA BAPTIST The Quartet Works &nbsp; Maria Baptist wuchs mit Jazz auf. In ihrem Elternhaus &#8211; ihr Vater Arnim gehörte zu den Aktivposten des DDR-Jazz &#8211; hörte man Jazz der 40er\,  50er\,  60er und 70er Jahre. Das führte Maria Baptist konsequent[..]\nhttps://buergerhaus-gruenau.de/events/gruenauer-jazz-buehne-22-maria-baptist-the-quartet-works/
URL:https://buergerhaus-gruenau.de/events/gruenauer-jazz-buehne-22-maria-baptist-the-quartet-works/
END:VEVENT
END:VCALENDAR