BEGIN:VCALENDAR
VERSION:2.0
PRODID:-//eventon.com NONSGML v1.0//EN
BEGIN:VEVENT
UID:69e73ab445a71
DTSTAMP:20260421T105204
DTSTART:20250416T140000Z
DTEND:20250416T163000Z
TZID:Europe/Berlin
LOCATION:KulturTribüne Regattastraße 191
SUMMARY:AUSFALL: Nähen lernen
DESCRIPTION: Es findet leider kein Nähkurs statt. &#8230;&#8230;&#8230;&#8230;&#8230;&#8230;.. Nähen lernen in der KunstWerkstatt der KulturTribüne Wegwerfen war gestern. Reparieren\,  Nähen ist heute. Unter der Anleitung von Damenmaßschneiderin Bianca könnt ihr das Nähen lernen\,  auch mit der Nähmaschine. Bianca bietet ihren Nähkurs am Mittwoch 16:00 &#8211; 18:30 Uhr an. Anfänger sind herzlich[..]\nhttps://buergerhaus-gruenau.de/events/ausfall-naehen-lernen/var/ri-1.l-L1
URL:https://buergerhaus-gruenau.de/events/ausfall-naehen-lernen/var/ri-1.l-L1
END:VEVENT
END:VCALENDAR