BEGIN:VCALENDAR
VERSION:2.0
PRODID:-//eventon.com NONSGML v1.0//EN
BEGIN:VEVENT
UID:69eb2d5e3ad32
DTSTAMP:20260424T104414
DTSTART:20250205T130000Z
DTEND:20250205T170000Z
TZID:Europe/Berlin
LOCATION:KulturTribüne Regattastraße 191
SUMMARY:Spielenachmittag
DESCRIPTION: Mitspielende gesucht ! Jeden Mittwoch ab 14 Uhr Alle sind herzlich willkommen!!\nhttps://buergerhaus-gruenau.de/events/spielenachmittag-25/var/ri-4.l-L1
URL:https://buergerhaus-gruenau.de/events/spielenachmittag-25/var/ri-4.l-L1
END:VEVENT
END:VCALENDAR