BEGIN:VCALENDAR
VERSION:2.0
PRODID:-//eventon.com NONSGML v1.0//EN
BEGIN:VEVENT
UID:69e9f043d9089
DTSTAMP:20260423T121115
DTSTART:20250310T150000Z
DTEND:20250310T225000Z
TZID:Europe/Berlin
LOCATION:KulturTribüne Regattastraße 191
SUMMARY:Lesekreis Grünau
DESCRIPTION: Es treffen sich Literaturinteressierte zu Lesekreis und Buchbesprechung. Anmeldungen erbeten unter redaktion@wababbel.de\,   &nbsp;\nhttps://buergerhaus-gruenau.de/events/lesekreis-gruenau-25/
URL:https://buergerhaus-gruenau.de/events/lesekreis-gruenau-25/
END:VEVENT
END:VCALENDAR