BEGIN:VCALENDAR
VERSION:2.0
PRODID:-//eventon.com NONSGML v1.0//EN
BEGIN:VEVENT
UID:69e7278c2e1b9
DTSTAMP:20260421T093020
DTSTART:20251106T140000Z
DTEND:20251106T160000Z
TZID:Europe/Berlin
LOCATION:Café in der KulturTribüne Regattastraße 191
SUMMARY:Familiencafe
DESCRIPTION: Familiencafe In der KulturTribüne Gemeinsam treffen\,  miteinander basteln und spielen in gemütlicher Atmosphäre Rechtzeitig zur kalten\,  dunklen Jahreszeit gibt es wieder unser beliebtes Familiencafe\,  in unserem neuen gemütlichen Cafe in der KulturTribüne. Wir bieten in unseren Räumen immer donnerstags von 15- 17 Uhr Spiel- und kleine Bastelangebote für Kleinkinder mit[..]\nhttps://buergerhaus-gruenau.de/events/familiencafe-nov25/
URL:https://buergerhaus-gruenau.de/events/familiencafe-nov25/
END:VEVENT
END:VCALENDAR