BEGIN:VCALENDAR
VERSION:2.0
PRODID:-//eventon.com NONSGML v1.0//EN
BEGIN:VEVENT
UID:69e7365cdfab5
DTSTAMP:20260421T103332
DTSTART:20250119T150000Z
DTEND:20250119T225000Z
TZID:Europe/Berlin
LOCATION:KulturTribüne Regattastraße 191
SUMMARY:Klassik in Grünau   Sonntagskonzert
DESCRIPTION: Klassik in Grünau &#8211;  Sonntagskonzert &#8211; Vladimir Valdivia 1970 in Lima/Peru geboren\,  begann Vladimir Valdivia im Alter von 5 Jahren seine musikalischen Studien am Conservatorio Nacional de Musica in Lima. Früh schon gab er in Peru\,  Ecuador\,  Chile\,  Bolivien und Brasilien Konzerte und spielte als Solist mit mehreren Orchestern zusammen.[..]\nhttps://buergerhaus-gruenau.de/events/klassik-in-gruenau-sonntagskonzert/
URL:https://buergerhaus-gruenau.de/events/klassik-in-gruenau-sonntagskonzert/
END:VEVENT
END:VCALENDAR