BEGIN:VCALENDAR
VERSION:2.0
PRODID:-//eventon.com NONSGML v1.0//EN
BEGIN:VEVENT
UID:69e74b64490ed
DTSTAMP:20260421T120316
DTSTART:20250114T150000Z
DTEND:20250114T170000Z
TZID:Europe/Berlin
LOCATION:KulturTribüne Regattastraße 191
SUMMARY:Doppelkopf für Anfänger
DESCRIPTION: Doppelkopf für Anfänger Haben Sie Lust\,  das ursprünglich aus Norddeutschland stammende Kartenspiel „Doppelkopf“ zu erlernen? Es ist ein Spiel\,  das sowohl dem „Schafskopf“\,  als auch dem „Skat“ ein wenig ähnelt. Der Ortsverein Grünau bietet für Anfänger in 14-tägigem Rhythmus immer dienstags eine Schulungsgruppe an. Bis zu 10 Personen können sich[..]\nhttps://buergerhaus-gruenau.de/events/lerngruppe-doppelkopf/var/ri-14.l-L1
URL:https://buergerhaus-gruenau.de/events/lerngruppe-doppelkopf/var/ri-14.l-L1
END:VEVENT
END:VCALENDAR