BEGIN:VCALENDAR
VERSION:2.0
PRODID:-//eventon.com NONSGML v1.0//EN
BEGIN:VEVENT
UID:69eaa10294baa
DTSTAMP:20260424T004522
DTSTART:20250323T100000Z
DTEND:20250323T120000Z
TZID:Europe/Berlin
LOCATION:KulturTribüne Regattastraße 191
SUMMARY:FunYoga
DESCRIPTION: Bewegung\,  Tanzen\,  Yoga Einmal den ganzen Körper durcharbeiten Freude an der körperlichen Bewegung\,  Fitness\,  Kraft und Beweglichkeit ist das Motto der eineinhalb Stunden. Wir erwärmen uns intensiv mit schwungvoller Musik\,  um dann in Yoga-Asanas überzugehen. Sigrun leitet die Gruppe an. Sie liebt die Bewegung und hat vor 10 Jahren eine[..]\nhttps://buergerhaus-gruenau.de/events/funyoga-5/var/ri-9.l-L1
URL:https://buergerhaus-gruenau.de/events/funyoga-5/var/ri-9.l-L1
END:VEVENT
END:VCALENDAR