BEGIN:VCALENDAR
VERSION:2.0
PRODID:-//eventon.com NONSGML v1.0//EN
BEGIN:VEVENT
UID:69e74b638f2ef
DTSTAMP:20260421T120315
DTSTART:20241212T180000Z
DTEND:20241212T225000Z
TZID:Europe/Berlin
LOCATION:Café in der KulturTribüne Regattastraße 191
SUMMARY:Grünauer Jazz-Bar # 4 - Thomas "Guitar" Walter & Martin Lillich
DESCRIPTION: Am 2. Donnerstag des Monats wird das Café der KulturTribüne zur Grünauer Jazz-Bar mit speziellen Drinks\,  Gesprächen und Musik auf Vinyl. Sie möchten sich nach Feierabend mit Freunden auf ein Glas Wein oder einen Longdrink treffen? Dann sind Sie in der Grünauer Jazz-Bar genau richtig! Heute mit Live-Musik von Thomas[..]\nhttps://buergerhaus-gruenau.de/events/gruenauer-jazz-bar-4-thomas-guitar-walter-martin-lillich/
URL:https://buergerhaus-gruenau.de/events/gruenauer-jazz-bar-4-thomas-guitar-walter-martin-lillich/
END:VEVENT
END:VCALENDAR