BEGIN:VCALENDAR
VERSION:2.0
PRODID:-//eventon.com NONSGML v1.0//EN
BEGIN:VEVENT
UID:69e739f4426dc
DTSTAMP:20260421T104852
DTSTART:20241204T140000Z
DTEND:20241204T153000Z
TZID:Europe/Berlin
LOCATION:KulturTribüne Regattastraße 191
SUMMARY:*Sprachcafé* - Deutsch als Fremdsprache
DESCRIPTION: Sie möchten gern (besser) Deutsch sprechen Herzlich willkommen im *Sprachcafé* in der KulturTribüne! Konversationskurs unter der Leitung einer Dozentin für DaF (Deutsch als Fremdsprache) &#8211; mit netten Nachbarn aus aller Welt! Termine: 20.11./ 27.11./ 04.12./ 11.12./ 18.12.2024 jeweils 15:00 &#8211; 16:30 Uhr Anmeldung: deutsch.in.gruenau@gmail.com KulturTribüne Regattastr. 191\,  Ortsverein Grünau e.V.[..]\nhttps://buergerhaus-gruenau.de/events/sprachcafe-deutsch-als-fremdsprache-kopie5/
URL:https://buergerhaus-gruenau.de/events/sprachcafe-deutsch-als-fremdsprache-kopie5/
END:VEVENT
END:VCALENDAR