BEGIN:VCALENDAR
VERSION:2.0
PRODID:-//eventon.com NONSGML v1.0//EN
BEGIN:VEVENT
UID:69eca686c1dca
DTSTAMP:20260425T133326
DTSTART:20241212T140000Z
DTEND:20241212T160000Z
TZID:Europe/Berlin
LOCATION:Café in der KulturTribüne Regattastraße 191
SUMMARY:Familiencafe
DESCRIPTION: Familiencafe In der KulturTribüne Gemeinsam treffen\,  miteinander basteln und spielen in gemütlicher Atmosphäre Rechtzeitig zur kalten\,  dunklen Jahreszeit gibt es wieder unser beliebtes Familiencafe\,  nun in unserem neuen gemütlichen Cafe in der KulturTribüne. Ab 10.10.24 bieten wir in unseren Räumen immer donnerstags von 15- 17 Uhr Spiel- und kleine Bastelangebote[..]\nhttps://buergerhaus-gruenau.de/events/familiencafe-kopie/var/ri-5.l-L1
URL:https://buergerhaus-gruenau.de/events/familiencafe-kopie/var/ri-5.l-L1
END:VEVENT
END:VCALENDAR