BEGIN:VCALENDAR
VERSION:2.0
PRODID:-//eventon.com NONSGML v1.0//EN
BEGIN:VEVENT
UID:69e889b6c2384
DTSTAMP:20260422T104126
DTSTART:20241025T130000Z
DTEND:20241025T215000Z
TZID:Europe/Berlin
LOCATION:KulturTribüne Regattastraße 191
SUMMARY:Puppentheater WUNDERSAME WURZEL WELTEN
DESCRIPTION: Puppentheater Rafael Zwischenraum Wundersame Wurzel Welten Faszinierende Dinge kann man unter der Erde sehen: Verschiedene Farben\,  Tiere\,  Fasern und auch: &#8230; dass die Wurzeln der Bäume einander berühren! Die kleine Suzanne ist tief beeindruckt und macht sich auf den langen Weg\,  das Zusammenleben der Bäume und ihre Sprache zu verstehen.[..]\nhttps://buergerhaus-gruenau.de/events/puppentheater-wundersame-wurzel-welten/
URL:https://buergerhaus-gruenau.de/events/puppentheater-wundersame-wurzel-welten/
END:VEVENT
END:VCALENDAR