BEGIN:VCALENDAR
VERSION:2.0
PRODID:-//eventon.com NONSGML v1.0//EN
BEGIN:VEVENT
UID:69e768c45077d
DTSTAMP:20260421T140836
DTSTART:20240928T170000Z
DTEND:20240928T215000Z
TZID:Europe/Berlin
LOCATION:KulturTribüne Regattastraße 191
SUMMARY:Weltmusiksalon „Der fliegende Teppich” # 45 Ladies special
DESCRIPTION: Herzensdinge Gesänge der früh europäischen und indischen Mystik mit instrumentaler Begleitung Amy Green – Gesang\,  gotische Harfe Beate Gatscha – Gesang\,  Tanpura\,  Hang\,  Perkussion Die beiden Musikerinnen arrangieren Lieder und Kompositionen aus verschiedenen Kulturen zum Thema Liebe\,  Verlust\,  Trauer\,  Abschied\,  Mystik und Ekstase. Sie suchen Gemeinsamkeiten zwischen mittelalterlichen Modi und[..]\nhttps://buergerhaus-gruenau.de/events/weltmusiksalon-der-fliegende-teppich-45-ladies-special/
URL:https://buergerhaus-gruenau.de/events/weltmusiksalon-der-fliegende-teppich-45-ladies-special/
END:VEVENT
END:VCALENDAR