BEGIN:VCALENDAR
VERSION:2.0
PRODID:-//eventon.com NONSGML v1.0//EN
BEGIN:VEVENT
UID:69e751f695307
DTSTAMP:20260421T123118
DTSTART:20240925T140000Z
DTEND:20240925T153000Z
TZID:Europe/Berlin
LOCATION:KulturTribüne Regattastraße 191
SUMMARY:Nähen lernen
DESCRIPTION: Nähen lernen in der KunstWerkstatt der KulturTribüne Wegwerfen war gestern. Reparieren\,  Nähen ist heute. Unter der Anleitung von Schneiderin Bianca könnt ihr das Nähen lernen\,  auch mit der Nähmaschine. Bianca bietet ihren Nähkurs jeden Mittwoch 16:00 &#8211; 17:30 Uhr an. Anfänger sind herzlich willkommen\,  eine Anmeldung ist erforderlich. Ihr könnt[..]\nhttps://buergerhaus-gruenau.de/events/naehen-in-der-kunstwerkstatt/var/ri-2.l-L1
URL:https://buergerhaus-gruenau.de/events/naehen-in-der-kunstwerkstatt/var/ri-2.l-L1
END:VEVENT
END:VCALENDAR