BEGIN:VCALENDAR
VERSION:2.0
PRODID:-//eventon.com NONSGML v1.0//EN
BEGIN:VEVENT
UID:69e9ec7bed2d1
DTSTAMP:20260423T115507
DTSTART:20240629T170000Z
DTEND:20240629T215000Z
TZID:Europe/Berlin
LOCATION:
SUMMARY:Grünauer Blues Bühne #6 | Jones and The Crew
DESCRIPTION: JONES AND THE CREW Jones and the Crew ist eine international besetzte Band aus Spanien\,  Mozambique und Deutschland um die Sängerin Txako Jones aus Sevilla! Ihren Weg zum Blues fand Txako über ein paar Umwege. In den 90ern startete sie zunächst in der Metal-Szene\,  um dann über Rock\,  Motown\,  Funk[..]\nhttps://buergerhaus-gruenau.de/events/gruenauer-blues-buehne-6-jones-and-the-crew/
URL:https://buergerhaus-gruenau.de/events/gruenauer-blues-buehne-6-jones-and-the-crew/
END:VEVENT
END:VCALENDAR