BEGIN:VCALENDAR
VERSION:2.0
PRODID:-//eventon.com NONSGML v1.0//EN
BEGIN:VEVENT
UID:69ea08c124f69
DTSTAMP:20260423T135545
DTSTART:20240601T170000Z
DTEND:20240601T215000Z
TZID:Europe/Berlin
LOCATION:
SUMMARY:Grünauer Jazz Bühne #17 trifft den Weltmusiksalon „Der fliegende Teppich #44“ FOR FREE HANDS und Dhrupad & beyond
DESCRIPTION: Es war geplant\,  dass in der KULTUR TRIBÜNE die &#8220;Grünauer Jazz Bühne“ den Weltmusiksalon „Der fliegende Teppich“ trifft\,  der in unseren Räumen eine neue Heimstatt finden soll. Für das erste Konzert dieser Reihe sind wir aber noch zu Gast in der BERBUS ALLIANCE Das Konzert findet statt mit freundlicher Unterstützung[..]\nhttps://buergerhaus-gruenau.de/events/gruenauer-jazz-buehne-17-den-weltmusiksalon-der-fliegende-teppich-44-for-free-hands-und-dhrupad-beyond/
URL:https://buergerhaus-gruenau.de/events/gruenauer-jazz-buehne-17-den-weltmusiksalon-der-fliegende-teppich-44-for-free-hands-und-dhrupad-beyond/
END:VEVENT
END:VCALENDAR