BEGIN:VCALENDAR
VERSION:2.0
PRODID:-//eventon.com NONSGML v1.0//EN
BEGIN:VEVENT
UID:69ed12270503b
DTSTAMP:20260425T211239
DTSTART:20240312T180000Z
DTEND:20240312T225900Z
TZID:Europe/Berlin
LOCATION:
SUMMARY:Offenes Singen
DESCRIPTION: Popular- und Weltmusik\,  mit Chorleiterin Susanne Faatz\,  am Klavier Roland Faatz Egal\,  ob Du bereits Erfahrungen mit dem Singen hast oder es ganz neu versuchen möchtest. Bei uns bist Du richtig! Klar &#8211; auch Eltern mit Kindern sind herzlich willkommen. Einmal im Monat singt Susanne mit uns ein- und mehrstimmige[..]\nhttps://buergerhaus-gruenau.de/events/offenes-singen-9-10-11-2/
URL:https://buergerhaus-gruenau.de/events/offenes-singen-9-10-11-2/
END:VEVENT
END:VCALENDAR