BEGIN:VCALENDAR
VERSION:2.0
PRODID:-//eventon.com NONSGML v1.0//EN
BEGIN:VEVENT
UID:69e8d690955aa
DTSTAMP:20260422T160920
DTSTART:20240225T230000Z
DTEND:20240226T225900Z
TZID:Europe/Berlin
LOCATION:
SUMMARY:Umzug des Ortsvereins Grünau e.V. in die KulturTribüne
DESCRIPTION: Der Ortsverein Ortsverein Grünau e.V. zieht um Es gibt noch keinen neuen Termin für den Einzug in die Regattatribüne Eröffnung am tt.mm.2024 Zum wiederholten Mal treten Verzögerungen im Bauablauf auf. Das letzte Mal waren die Brandschutztüren nicht lieferbar. Nun warten wir auf die Bauabnahme. Wir planen die offizielle Eröffnung zum[..]\nhttps://buergerhaus-gruenau.de/events/umzug-des-ortsvereins-gruenau-e-v/var/ri-6.l-L1
URL:https://buergerhaus-gruenau.de/events/umzug-des-ortsvereins-gruenau-e-v/var/ri-6.l-L1
END:VEVENT
END:VCALENDAR