BEGIN:VCALENDAR
VERSION:2.0
PRODID:-//eventon.com NONSGML v1.0//EN
BEGIN:VEVENT
UID:69ebb0c6f1fb8
DTSTAMP:20260424T200454
DTSTART:20231008T150000Z
DTEND:20231008T215000Z
TZID:Europe/Berlin
LOCATION:
SUMMARY:Blaue Stunde: Herzkasper
DESCRIPTION: &#8220;Herzkasper&#8221; &#8211; Eine musikalische Lesung mit Dirk Zöllner und Tobias Unterberg Ein Künstler sucht seine Mitte. Zwischen Kopf- und Lendenbereich findet der Musiker sein Herz und begibt sich mit ihm ins Zwiegespräch. Dank der Aufmerksamkeit beginnt es zu wachsen. Er befreit sich von kopfgesteuerten Korsetten und gibt sich der Liebe[..]\nhttps://buergerhaus-gruenau.de/events/blaue-stunde-herzkasper/
URL:https://buergerhaus-gruenau.de/events/blaue-stunde-herzkasper/
END:VEVENT
END:VCALENDAR