BEGIN:VCALENDAR
VERSION:2.0
PRODID:-//eventon.com NONSGML v1.0//EN
BEGIN:VEVENT
UID:69e5e7888513b
DTSTAMP:20260420T104456
DTSTART:20230607T163000Z
DTEND:20230607T215000Z
TZID:Europe/Berlin
LOCATION:
SUMMARY:Stricken bis die Nadel glüht
DESCRIPTION: Stricken & Plaudern im Bürgerzentrum Grünau. Anfänger und Strickversierte sind herzlich willkommen\nhttps://buergerhaus-gruenau.de/events/stricken-bis-die-nadel-glueht-3/
URL:https://buergerhaus-gruenau.de/events/stricken-bis-die-nadel-glueht-3/
END:VEVENT
END:VCALENDAR