BEGIN:VCALENDAR
VERSION:2.0
PRODID:-//eventon.com NONSGML v1.0//EN
BEGIN:VEVENT
UID:69e889be0c80f
DTSTAMP:20260422T104134
DTSTART:20230429T080000Z
DTEND:20230429T120000Z
TZID:Europe/Berlin
LOCATION:
SUMMARY:Kindertrödelmarkt
DESCRIPTION: Grünauer Kindertrödel Wann:      Samstag 29.4. 10:00 bis 14:00 Uhr\,  (Aufbau ab 09:00 Uhr) Was:          Nur gut erhaltene\,  saubere Kinderkleidung und Spielzeug Wieviel:    Standgebühr 10€\,  oder 5€ plus ein Kuchen Wie:           Nur mit eigenen Tischen (max. 3 Meter) und verbindlicher Reservierung über: info@ortsverein-gruenau.de\nhttps://buergerhaus-gruenau.de/events/kindertroedelmarkt/
URL:https://buergerhaus-gruenau.de/events/kindertroedelmarkt/
END:VEVENT
END:VCALENDAR