BEGIN:VCALENDAR
VERSION:2.0
PRODID:-//eventon.com NONSGML v1.0//EN
BEGIN:VEVENT
UID:69e73680617f6
DTSTAMP:20260421T103408
DTSTART:20230422T170000Z
DTEND:20230422T215000Z
TZID:Europe/Berlin
LOCATION:
SUMMARY:Klassik in Grünau | Faszination Tango
DESCRIPTION: Tango Alice Dixon &#8211; Violoncello Gerhard A. Schiewe &#8211; Akkordeon / Arrangements Die aus England stammende Cellistin Alice Dixon und der Wahlberliner Gerhard A. Schiewe am Akkordeon haben in Ihrem Programm unterschiedliche Facetten des Tangos zusammengetragen. Neben dem traditionellen Tango und der Milonga eröffnet sich dem Publikum auch der markante Unterschied[..]\nhttps://buergerhaus-gruenau.de/events/klassik-in-gruenau-faszination-tango/
URL:https://buergerhaus-gruenau.de/events/klassik-in-gruenau-faszination-tango/
END:VEVENT
END:VCALENDAR