BEGIN:VCALENDAR
VERSION:2.0
PRODID:-//eventon.com NONSGML v1.0//EN
BEGIN:VEVENT
UID:69ecc8c309bc5
DTSTAMP:20260425T155931
DTSTART:20230512T183000Z
DTEND:20230512T215000Z
TZID:Europe/Berlin
LOCATION:
SUMMARY:Kantinen Disko 12.5.2023
DESCRIPTION: Coole Drinks und heiße Beats aus fünf Jahrzehnten mit dem Grünauer DJ-Team.  Mit dem bewährten Grünauer DJ-Team Eintritt:  5\, - €\nhttps://buergerhaus-gruenau.de/events/kantinen-disko-12-5-2023/
URL:https://buergerhaus-gruenau.de/events/kantinen-disko-12-5-2023/
END:VEVENT
END:VCALENDAR