BEGIN:VCALENDAR
VERSION:2.0
PRODID:-//eventon.com NONSGML v1.0//EN
BEGIN:VEVENT
UID:69ecc88bef79d
DTSTAMP:20260425T155835
DTSTART:20230330T170000Z
DTEND:20230330T215000Z
TZID:Europe/Berlin
LOCATION:
SUMMARY:Ein Leben in 20.000 Kassetten
DESCRIPTION: Ein Mann. 20.000 Kassetten. &nbsp;\nhttps://buergerhaus-gruenau.de/events/ein-leben-in-20-000-kassetten/
URL:https://buergerhaus-gruenau.de/events/ein-leben-in-20-000-kassetten/
END:VEVENT
END:VCALENDAR